BEGIN:VCALENDAR
VERSION:2.0
PRODID:-//Baltic Expert Witness Association - ECPv6.15.20//NONSGML v1.0//EN
CALSCALE:GREGORIAN
METHOD:PUBLISH
X-WR-CALNAME:Baltic Expert Witness Association
X-ORIGINAL-URL:https://balticexpertwitness.com
X-WR-CALDESC:Events for Baltic Expert Witness Association
REFRESH-INTERVAL;VALUE=DURATION:PT1H
X-Robots-Tag:noindex
X-PUBLISHED-TTL:PT1H
BEGIN:VTIMEZONE
TZID:Europe/London
BEGIN:DAYLIGHT
TZOFFSETFROM:+0000
TZOFFSETTO:+0100
TZNAME:BST
DTSTART:20200329T010000
END:DAYLIGHT
BEGIN:STANDARD
TZOFFSETFROM:+0100
TZOFFSETTO:+0000
TZNAME:GMT
DTSTART:20201025T010000
END:STANDARD
BEGIN:DAYLIGHT
TZOFFSETFROM:+0000
TZOFFSETTO:+0100
TZNAME:BST
DTSTART:20210328T010000
END:DAYLIGHT
BEGIN:STANDARD
TZOFFSETFROM:+0100
TZOFFSETTO:+0000
TZNAME:GMT
DTSTART:20211031T010000
END:STANDARD
BEGIN:DAYLIGHT
TZOFFSETFROM:+0000
TZOFFSETTO:+0100
TZNAME:BST
DTSTART:20220327T010000
END:DAYLIGHT
BEGIN:STANDARD
TZOFFSETFROM:+0100
TZOFFSETTO:+0000
TZNAME:GMT
DTSTART:20221030T010000
END:STANDARD
END:VTIMEZONE
BEGIN:VEVENT
DTSTART;VALUE=DATE:20211105
DTEND;VALUE=DATE:20211106
DTSTAMP:20260424T125517
CREATED:20210420T165309Z
LAST-MODIFIED:20211030T074134Z
UID:1469-1636070400-1636156799@balticexpertwitness.com
SUMMARY:Bond Solon Expert Witness Conference
DESCRIPTION:Expert Witness Conference 2021\nFriday 5 November 2021\nHybrid Event: Attend in person at Church House in Westminster or Virtually\n6 hours CPD/CME\nDear Jeffrey\n\n\n\n\n\n\n\n\n\n\n\n\n\n\n\n\n\n\nI am very much looking forward to the conference next Friday 5 November and do hope you will be coming. \nIn preparation for the day\, I had a briefing meeting with the new Master of the Rolls and our keynote speaker\, Sir Geoffrey Vos\, as he was preparing his address. \nI was shocked at what he plans to do with the civil justice system and the massive implications for experts. It is likely to be the biggest shake up to the system since the Civil Procedure Rules came into force in 1999.\n\n\n\n\n\n\n\n\n\n\n\n\n\n\n\n\n\n\n\n\n\n\n\n\n\n\n\n\n\n\n\n\n\n\n\n\nHe is almost fanatical about converting the whole ligation process to be online. In fact\, when I passed him a printed copy of the conference brochure\, he refused even to touch it and insisted on looking at it on screen. He said it was important to set an example.\nHe is proposing radical changes to the way experts provide their evidence with a much greater unbundled approach\, saying current methods are “too lengthy\, too costly and too elaborate.” He read extracts from his draft address (on screen of course) and experts will be in for some real shocks. In essence litigation will be much faster and all conducted online. It may even mean the end of live oral evidence. He wants to make extensive use of “blockchain” technology – an immutable\, unhackable and dencentralised method of recording information that is linked\, with all nodes reflecting the updated data as it occurs. He wants experts to bypass traditional expert reports and said: “the end of the Word is nigh”  referring to the Microsoft Word programme. \nIt is really important that as many experts as possible attend and listen to the Master of the Rolls\, and have the opportunity to pose questions. Whilst his proposals relate to the civil justice system\, their implementation will undoubtedly impact experts who act in criminal and family law proceedings. \n495 experts have already secured their place at the conference. We have 8 in-person places remaining for those who wish to attend the venue (Church House Conference Centre\, Westminster) and the latest we can receive in-person bookings is 12pm on Monday 1 November. You also have the option to attend virtually and would need to book by 5pm on Wednesday 3 November to secure your place. For further information on the conference and to book\, please click here or ring us on 020 7549 2549. \nI do hope you can attend. \nBest regards\, \nMark Solon \nDirector\nBond Solon\nexpertwitness@bondsolon.com\n020 7549 2549\n\n\n\n\n\n\n\n\n\n\n\n\n\n\n\n\n\n\n\n\n\n\n\n\n\n\n\n\n\nSponsors\n\n\n\n\n\n\n\n\n\n\n\n\n\n\n\n\n\n\n\n\n\n\n\n\n\n\n\n\n\n\n\n\n\n\n\n\n\n\n\n\n\n\n\n\n\n\n\n\n\n\n\n\n\n\n\n\n\n\n\n\n\n\n\n\n\n\n\n\n\n\n\n\n\n\n\n\n\n\n\n\n\n\n\n\n\n\n\n\n\n\n\n\n\n\n\n\n\n\n\n\n\n\n\n\n\n\n\n\n\n\n\n\n\n\n\n\n\n\n\n\n\n\n\n\n\n\n\n\n\n\n\n\n\n\n\n\n\n\n\n\n\n\n\n\n\n\n\n\n\n\n\n\n\n\n\n\n\n\n\n\n\n\n\n\n\n\n\n\n\n\n\n\n\n\n\n\n\n\n\n\n\n\n\n\n\n\n\n\n\n\n\n\n\n\n\n\n\n\n\n\n\n\n\n\n\n\n\n\n\n\n\nHow to access and control your personal information \nWe hope this email was of use to you. If you would like to change your mailing preferences please call us on 020 7549 2549. To stop receiving emails\, please unsubscribe \nTo view our privacy policy please click here\n\nTo view our terms and conditions please click here\n\nYou have the following rights with regards to your personal information \nOur legal basis for processing your data is legitimate interest. You have received this email because we believe that this information is of relevance to your role as an expert witness. Your data will be processed by our employees and we do not transfer your data outside of the EU.  Please see our privacy policy for information on our data retention policy. You have the right to access\, port\, rectify\, erase\, restrict and object to the processing of your data. To contact our Data Protection Officer please email dataprotection@wilmingtonplc.com\nYou have the right to complain to the supervisory authority. \nThis email was sent by: Bond Solon\n10 Whitechapel High Street\nLondon\, London\, E1 8QS\, United Kingdom
URL:https://balticexpertwitness.com/event/expert-witness-conference/
CATEGORIES:Bond Solon - Conference
END:VEVENT
END:VCALENDAR